
BEGIN:VCALENDAR
VERSION:2.0
PRODID:-//Ellisfield Memorial Hall - ECPv6.15.20//NONSGML v1.0//EN
CALSCALE:GREGORIAN
METHOD:PUBLISH
X-ORIGINAL-URL:https://ellisfield-hall.org
X-WR-CALDESC:Events for Ellisfield Memorial Hall
REFRESH-INTERVAL;VALUE=DURATION:PT1H
X-Robots-Tag:noindex
X-PUBLISHED-TTL:PT1H
BEGIN:VTIMEZONE
TZID:Europe/London
BEGIN:DAYLIGHT
TZOFFSETFROM:+0000
TZOFFSETTO:+0100
TZNAME:BST
DTSTART:20250330T010000
END:DAYLIGHT
BEGIN:STANDARD
TZOFFSETFROM:+0100
TZOFFSETTO:+0000
TZNAME:GMT
DTSTART:20251026T010000
END:STANDARD
BEGIN:DAYLIGHT
TZOFFSETFROM:+0000
TZOFFSETTO:+0100
TZNAME:BST
DTSTART:20260329T010000
END:DAYLIGHT
BEGIN:STANDARD
TZOFFSETFROM:+0100
TZOFFSETTO:+0000
TZNAME:GMT
DTSTART:20261025T010000
END:STANDARD
BEGIN:DAYLIGHT
TZOFFSETFROM:+0000
TZOFFSETTO:+0100
TZNAME:BST
DTSTART:20270328T010000
END:DAYLIGHT
BEGIN:STANDARD
TZOFFSETFROM:+0100
TZOFFSETTO:+0000
TZNAME:GMT
DTSTART:20271031T010000
END:STANDARD
END:VTIMEZONE
BEGIN:VEVENT
DTSTART;TZID=Europe/London:20260504T090000
DTEND;TZID=Europe/London:20260504T150000
DTSTAMP:20260422T183812
CREATED:20260126T200654Z
LAST-MODIFIED:20260126T200654Z
UID:4612-1777885200-1777906800@ellisfield-hall.org
SUMMARY:Church Walk
DESCRIPTION:Susie Dean
URL:https://ellisfield-hall.org/event/church-walk/
END:VEVENT
BEGIN:VEVENT
DTSTART;TZID=Europe/London:20260506T193000
DTEND;TZID=Europe/London:20260506T213000
DTSTAMP:20260422T183812
CREATED:20260324T115534Z
LAST-MODIFIED:20260324T115534Z
UID:4671-1778095800-1778103000@ellisfield-hall.org
SUMMARY:Private Theatricals
DESCRIPTION:
URL:https://ellisfield-hall.org/event/private-theatricals-88/
END:VEVENT
BEGIN:VEVENT
DTSTART;TZID=Europe/London:20260507T184500
DTEND;TZID=Europe/London:20260507T201500
DTSTAMP:20260422T183812
CREATED:20260324T122108Z
LAST-MODIFIED:20260324T122108Z
UID:4717-1778179500-1778184900@ellisfield-hall.org
SUMMARY:yoga
DESCRIPTION:
URL:https://ellisfield-hall.org/event/yoga-276/
END:VEVENT
BEGIN:VEVENT
DTSTART;TZID=Europe/London:20260511T190000
DTEND;TZID=Europe/London:20260511T210000
DTSTAMP:20260422T183812
CREATED:20250513T121539Z
LAST-MODIFIED:20250513T121539Z
UID:4257-1778526000-1778533200@ellisfield-hall.org
SUMMARY:Memorial Hall AGM
DESCRIPTION:
URL:https://ellisfield-hall.org/event/memorial-hall-agm-5/
END:VEVENT
BEGIN:VEVENT
DTSTART;TZID=Europe/London:20260513T193000
DTEND;TZID=Europe/London:20260513T213000
DTSTAMP:20260422T183812
CREATED:20260324T115636Z
LAST-MODIFIED:20260324T115636Z
UID:4673-1778700600-1778707800@ellisfield-hall.org
SUMMARY:Private Theatricals
DESCRIPTION:
URL:https://ellisfield-hall.org/event/private-theatricals-98/
END:VEVENT
BEGIN:VEVENT
DTSTART;TZID=Europe/London:20260514T184500
DTEND;TZID=Europe/London:20260514T201500
DTSTAMP:20260422T183812
CREATED:20260324T122209Z
LAST-MODIFIED:20260324T122209Z
UID:4719-1778784300-1778789700@ellisfield-hall.org
SUMMARY:Yoga
DESCRIPTION:
URL:https://ellisfield-hall.org/event/yoga-277/
END:VEVENT
BEGIN:VEVENT
DTSTART;TZID=Europe/London:20260516T190000
DTEND;TZID=Europe/London:20260516T220000
DTSTAMP:20260422T183812
CREATED:20260324T121313Z
LAST-MODIFIED:20260324T121313Z
UID:4715-1778958000-1778968800@ellisfield-hall.org
SUMMARY:Private Theatricals - Quiz Night
DESCRIPTION:
URL:https://ellisfield-hall.org/event/private-theatricals-quiz-night/
END:VEVENT
BEGIN:VEVENT
DTSTART;TZID=Europe/London:20260518T190000
DTEND;TZID=Europe/London:20260518T210000
DTSTAMP:20260422T183812
CREATED:20260316T211410Z
LAST-MODIFIED:20260316T211410Z
UID:4667-1779130800-1779138000@ellisfield-hall.org
SUMMARY:EPC
DESCRIPTION:
URL:https://ellisfield-hall.org/event/epc-10/
END:VEVENT
BEGIN:VEVENT
DTSTART;TZID=Europe/London:20260520T193000
DTEND;TZID=Europe/London:20260520T213000
DTSTAMP:20260422T183812
CREATED:20260324T115707Z
LAST-MODIFIED:20260324T115707Z
UID:4675-1779305400-1779312600@ellisfield-hall.org
SUMMARY:Private Theatricals
DESCRIPTION:
URL:https://ellisfield-hall.org/event/private-theatricals-100/
END:VEVENT
BEGIN:VEVENT
DTSTART;TZID=Europe/London:20260521T184500
DTEND;TZID=Europe/London:20260521T201500
DTSTAMP:20260422T183812
CREATED:20260324T122746Z
LAST-MODIFIED:20260324T122746Z
UID:4729-1779389100-1779394500@ellisfield-hall.org
SUMMARY:Yoga
DESCRIPTION:
URL:https://ellisfield-hall.org/event/yoga-282/
END:VEVENT
BEGIN:VEVENT
DTSTART;TZID=Europe/London:20260525T080000
DTEND;TZID=Europe/London:20260525T170000
DTSTAMP:20260422T183812
CREATED:20251213T202339Z
LAST-MODIFIED:20251213T202339Z
UID:4579-1779696000-1779728400@ellisfield-hall.org
SUMMARY:Alton Walkers
DESCRIPTION:
URL:https://ellisfield-hall.org/event/alton-walkers-6/
END:VEVENT
BEGIN:VEVENT
DTSTART;TZID=Europe/London:20260528T184500
DTEND;TZID=Europe/London:20260528T201500
DTSTAMP:20260422T183812
CREATED:20260324T122254Z
LAST-MODIFIED:20260324T122254Z
UID:4721-1779993900-1779999300@ellisfield-hall.org
SUMMARY:Yoga
DESCRIPTION:
URL:https://ellisfield-hall.org/event/yoga-278/
END:VEVENT
END:VCALENDAR