
BEGIN:VCALENDAR
VERSION:2.0
PRODID:-//Ellisfield Memorial Hall - ECPv6.15.20//NONSGML v1.0//EN
CALSCALE:GREGORIAN
METHOD:PUBLISH
X-WR-CALNAME:Ellisfield Memorial Hall
X-ORIGINAL-URL:https://ellisfield-hall.org
X-WR-CALDESC:Events for Ellisfield Memorial Hall
REFRESH-INTERVAL;VALUE=DURATION:PT1H
X-Robots-Tag:noindex
X-PUBLISHED-TTL:PT1H
BEGIN:VTIMEZONE
TZID:Europe/London
BEGIN:DAYLIGHT
TZOFFSETFROM:+0000
TZOFFSETTO:+0100
TZNAME:BST
DTSTART:20250330T010000
END:DAYLIGHT
BEGIN:STANDARD
TZOFFSETFROM:+0100
TZOFFSETTO:+0000
TZNAME:GMT
DTSTART:20251026T010000
END:STANDARD
BEGIN:DAYLIGHT
TZOFFSETFROM:+0000
TZOFFSETTO:+0100
TZNAME:BST
DTSTART:20260329T010000
END:DAYLIGHT
BEGIN:STANDARD
TZOFFSETFROM:+0100
TZOFFSETTO:+0000
TZNAME:GMT
DTSTART:20261025T010000
END:STANDARD
BEGIN:DAYLIGHT
TZOFFSETFROM:+0000
TZOFFSETTO:+0100
TZNAME:BST
DTSTART:20270328T010000
END:DAYLIGHT
BEGIN:STANDARD
TZOFFSETFROM:+0100
TZOFFSETTO:+0000
TZNAME:GMT
DTSTART:20271031T010000
END:STANDARD
END:VTIMEZONE
BEGIN:VEVENT
DTSTART;TZID=Europe/London:20260516T190000
DTEND;TZID=Europe/London:20260516T220000
DTSTAMP:20260422T200257
CREATED:20260324T121313Z
LAST-MODIFIED:20260324T121313Z
UID:4715-1778958000-1778968800@ellisfield-hall.org
SUMMARY:Private Theatricals - Quiz Night
DESCRIPTION:
URL:https://ellisfield-hall.org/event/private-theatricals-quiz-night/
END:VEVENT
END:VCALENDAR